BEGIN:VCALENDAR
VERSION:2.0
CALSCALE:GREGORIAN
PRODID:MDA iCal Generator
BEGIN:VTIMEZONE
TZID:Asia/Singapore
BEGIN:STANDARD
TZOFFSETFROM:+0800
DTSTART:19890917T000000
TZNAME:GMT+8
TZOFFSETTO:+0800
END:STANDARD
END:VTIMEZONE
BEGIN:VEVENT
UID:c338352732f1cf7d5e0d422c2c6334e8
SUMMARY:ProWine Singapore 2026
DESCRIPTION:6th International Trade Fair for Wines and Spirits
LOCATION:Singapore Expo
URL;VALUE=URI:https:www.prowine-singapore.com
DTSTART;TZID=Asia/Singapore:20260421T100000
DTEND;TZID=Asia/Singapore:20260424T170000
DTSTAMP:20260421T181240
END:VEVENT
END:VCALENDAR